BEGIN:VCALENDAR
VERSION:2.0
PRODID:-//Plone.org//NONSGML plone.app.event//EN
X-WR-TIMEZONE:Europe/Rome
BEGIN:VEVENT
SUMMARY:"PICCOLI COSI" - Evento speciale 17-18 novembre 
DTSTART;VALUE=DATE-TIME:20151118T170000Z
DTEND;VALUE=DATE-TIME:20151118T210000Z
DTSTAMP;VALUE=DATE-TIME:20260422T133805Z
UID:1f47b5880e06d43164088c31e8deb994@127.0.0.1:8095
CATEGORIES:Film/documentario
CREATED;VALUE=DATE-TIME:20151117T151510Z
DESCRIPTION:Proiezione del film/documentario di Angelo Marotta.\nGiornata 
 Internazionale del Neonato pretermine\n \n
LAST-MODIFIED;VALUE=DATE-TIME:20160222T103229Z
LOCATION:Multisala UCI Cinemas Meridiana - Casalecchio di Reno (Bologna)
URL:https://www.ausl.bologna.it/eventi/archivio/auslevent.2015-11-17.72362
 48219
END:VEVENT
END:VCALENDAR
