BEGIN:VCALENDAR
VERSION:2.0
PRODID:-//Plone.org//NONSGML plone.app.event//EN
X-WR-TIMEZONE:Europe/Rome
BEGIN:VEVENT
SUMMARY:Laboratorio:patologie cardiovascolari - Medicina di genere
DTSTART;VALUE=DATE-TIME:20151126T130000Z
DTEND;VALUE=DATE-TIME:20151126T170000Z
DTSTAMP;VALUE=DATE-TIME:20260422T133816Z
UID:bbf63137332371f4a454cf88f1245e12@127.0.0.1:8095
ATTENDEE;CN="Destinatari: medici cardiologi, internisti, medici di medicin
 a generale,";ROLE=REQ-PARTICIPANT:Destinatari: medici cardiologi, internis
 ti, medici di medicina generale,
ATTENDEE;CN=infermieri;ROLE=REQ-PARTICIPANT:infermieri
CATEGORIES:Laboratorio
CONTACT:Morena Cavaletti\, 0522 837308
CREATED;VALUE=DATE-TIME:20151113T161321Z
DESCRIPTION:Area Vasta Emilia Nord 
LAST-MODIFIED;VALUE=DATE-TIME:20160222T103226Z
LOCATION:Ausl di Reggio Emilia\, Aule "Rita Levi Montalcini" e "Florence N
 ightingale"\, Centro di formazione aziendale "Alessandro Liberati" Padigli
 one Golgi\, primo piano\, Ingresso da Via Doberdò - Reggio Emilia
URL:https://www.ausl.bologna.it/eventi/archivio/auslevent.2015-11-13.83735
 39351
END:VEVENT
END:VCALENDAR
