BEGIN:VCALENDAR
VERSION:2.0
PRODID:-//Plone.org//NONSGML plone.app.event//EN
X-WR-TIMEZONE:Europe/Rome
BEGIN:VEVENT
SUMMARY:Laboratorio:patologie cardiovascolari. Medicina di genere
DTSTART;VALUE=DATE-TIME:20151125T130000Z
DTEND;VALUE=DATE-TIME:20151125T170000Z
DTSTAMP;VALUE=DATE-TIME:20260422T133805Z
UID:d824f0c3fe032eb1ae4f6085ddc27318@127.0.0.1:8095
ATTENDEE;CN="Destinatari: medici cardiologi, internisti, medici di medicin
 a generale,";ROLE=REQ-PARTICIPANT:Destinatari: medici cardiologi, internis
 ti, medici di medicina generale,
ATTENDEE;CN=infermieri;ROLE=REQ-PARTICIPANT:infermieri
CATEGORIES:Laboratorio
CONTACT:Franca Chiocciolini\, 0543 735207
CREATED;VALUE=DATE-TIME:20151113T155539Z
DESCRIPTION:Area Vasta Romagna 
LAST-MODIFIED;VALUE=DATE-TIME:20160222T103225Z
LOCATION:Aula Magna Ospedale "Morgagni-PIerantoni"
URL:https://www.ausl.bologna.it/eventi/archivio/auslevent.2015-11-13.81812
 84687
END:VEVENT
END:VCALENDAR
