BEGIN:VCALENDAR
VERSION:2.0
PRODID:-//Plone.org//NONSGML plone.app.event//EN
X-WR-TIMEZONE:Europe/Rome
BEGIN:VEVENT
SUMMARY:Mediterranea 2015. CiBO di Legalità
DTSTART;VALUE=DATE-TIME:20151113T093000Z
DTEND;VALUE=DATE-TIME:20151115T200000Z
DTSTAMP;VALUE=DATE-TIME:20260422T133815Z
UID:67ad37b3858e58e902a6f5f92463d246@127.0.0.1:8095
CONTACT:CAAB\, 051-2860327\, mail@caab.it
CREATED;VALUE=DATE-TIME:20151112T125952Z
DESCRIPTION:Il Patrimonio dell’Umanità tra alimentazione e ricerca - FO
 RUM NAZIONALE\n
LAST-MODIFIED;VALUE=DATE-TIME:20160222T103223Z
LOCATION:Manifattura delle Arti (Cinema Lumière e Laboratori delle Arti) 
 Piazzetta Pier Paolo Pasolini\, 5 - Bologna
URL:https://www.ausl.bologna.it/eventi/archivio/auslevent.2015-11-12.98983
 77269
END:VEVENT
END:VCALENDAR
