BEGIN:VCALENDAR
VERSION:2.0
PRODID:-//Plone.org//NONSGML plone.app.event//EN
X-WR-TIMEZONE:Europe/Rome
BEGIN:VEVENT
SUMMARY:MEDICINA DI GENERE - Laboratorio: patologie cardiovascolari
DTSTART;VALUE=DATE-TIME:20151201T130000Z
DTEND;VALUE=DATE-TIME:20151201T170000Z
DTSTAMP;VALUE=DATE-TIME:20260422T142130Z
UID:90b80ac216e3a86285b908cd3a53ed5d@127.0.0.1:8095
ATTENDEE;CN="Inviare entro il 24 novembre 2015";ROLE=REQ-PARTICIPANT:Invia
 re entro il 24 novembre 2015
CATEGORIES:Laboratorio
CONTACT:Manuela Giogoli\, 0516597452
CREATED;VALUE=DATE-TIME:20151109T144612Z
DESCRIPTION:Area Vasta Emilia Centro 
LAST-MODIFIED;VALUE=DATE-TIME:20160222T103033Z
LOCATION:Bologna - Biblioteca Ospedale Bellaria Bologna
URL:https://www.ausl.bologna.it/eventi/archivio/auslevent.2015-11-09.74177
 55719
END:VEVENT
END:VCALENDAR
