BEGIN:VCALENDAR
VERSION:2.0
PRODID:-//Plone.org//NONSGML plone.app.event//EN
X-WR-TIMEZONE:Europe/Rome
BEGIN:VEVENT
SUMMARY:Diagnosi e trattamento multidisciplinare della narcolessia: dall
 ’impatto psicosociale alla co-morbidità psichiatrica
DTSTART;VALUE=DATE-TIME:20151114T073000Z
DTEND;VALUE=DATE-TIME:20151114T164500Z
DTSTAMP;VALUE=DATE-TIME:20260422T140304Z
UID:76654b60c5da1ecc8c5014eb49934ce9@127.0.0.1:8095
CATEGORIES:seminario
CONTACT:Avenue media \, 051 6564300\, congressi@avenuemedia.eu
CREATED;VALUE=DATE-TIME:20151109T145114Z
DESCRIPTION:II Seminario sulla Narcolessia 
LAST-MODIFIED;VALUE=DATE-TIME:20160222T103034Z
LOCATION:Bologna - IRCCS Istituto delle Scienze Neurologiche\, Ospedale Be
 llaria - Via Altura\, 3
URL:https://www.ausl.bologna.it/eventi/archivio/auslevent.2015-11-09.57769
 87089
END:VEVENT
END:VCALENDAR
