BEGIN:VCALENDAR
VERSION:2.0
PRODID:-//Plone.org//NONSGML plone.app.event//EN
X-WR-TIMEZONE:Europe/Rome
BEGIN:VEVENT
SUMMARY:Soluzioni tecnologiche per l'eliminazione o la “riduzione del ri
 schio”:ambienti di lavoro confinati e sovraccarico biomeccanico
DTSTART;VALUE=DATE-TIME:20151127T073000Z
DTEND;VALUE=DATE-TIME:20151127T123000Z
DTSTAMP;VALUE=DATE-TIME:20260422T142130Z
UID:0bf60303640dbfa53b7141e2a194bb36@127.0.0.1:8095
CONTACT:Tel. 051 209 3407\, din.safetyengineering@unibo.it
CREATED;VALUE=DATE-TIME:20151109T070718Z
DESCRIPTION:Progetto: BANCA DELLE SOLUZIONI
LAST-MODIFIED;VALUE=DATE-TIME:20160222T103032Z
LOCATION:Aula Magna della Scuola di Farmacia\, Biotecnologie e Scienze Mot
 orie\, Università di BolognaVia della Beverara\, 123/1 - Bologna
URL:https://www.ausl.bologna.it/eventi/archivio/auslevent.2015-11-09.47074
 74856
END:VEVENT
END:VCALENDAR
