BEGIN:VCALENDAR
VERSION:2.0
PRODID:-//Plone.org//NONSGML plone.app.event//EN
X-WR-TIMEZONE:Europe/Rome
BEGIN:VEVENT
SUMMARY:Completamento di Corte Roncati 
DTSTART;VALUE=DATE-TIME:20151114T093000Z
DTEND;VALUE=DATE-TIME:20151114T113000Z
DTSTAMP;VALUE=DATE-TIME:20260422T142130Z
UID:d41db2c959282e2420555ad5ca1d6388@127.0.0.1:8095
CATEGORIES:Invito
CREATED;VALUE=DATE-TIME:20151106T155127Z
DESCRIPTION:Servizi specialistici e percorsi per le disabilità
LAST-MODIFIED;VALUE=DATE-TIME:20160222T103029Z
LOCATION:Via S.Isaia\, 94/A - Bologna
URL:https://www.ausl.bologna.it/eventi/archivio/auslevent.2015-11-06.91147
 06939
END:VEVENT
END:VCALENDAR
