BEGIN:VCALENDAR
VERSION:2.0
PRODID:-//Plone.org//NONSGML plone.app.event//EN
X-WR-TIMEZONE:Europe/Rome
BEGIN:VEVENT
SUMMARY:Il Dilemma della Cura
DTSTART;VALUE=DATE-TIME:20151124T081500Z
DTEND;VALUE=DATE-TIME:20151124T124500Z
DTSTAMP;VALUE=DATE-TIME:20260422T142131Z
UID:659c9d8fed3e0665c4dfbd088eb6dfa2@127.0.0.1:8095
CATEGORIES:Giornata
CONTACT:QuattordiciA Comunicazione srl\, 051 0395400
CREATED;VALUE=DATE-TIME:20151106T153333Z
DESCRIPTION:Incontro di studio
LAST-MODIFIED;VALUE=DATE-TIME:20160222T103028Z
LOCATION:Sede-Scuola Medica Chirurgica di Bologna- Archiginnasio\, Piazza 
 Galvani1 - Bologna
URL:https://www.ausl.bologna.it/eventi/archivio/auslevent.2015-11-06.81753
 92002
END:VEVENT
END:VCALENDAR
