BEGIN:VCALENDAR
VERSION:2.0
PRODID:-//Plone.org//NONSGML plone.app.event//EN
X-WR-TIMEZONE:Europe/Rome
BEGIN:VEVENT
SUMMARY:A ricordo di Giorgio Ruggeri 
DTSTART;VALUE=DATE-TIME:20151116T100000Z
DTEND;VALUE=DATE-TIME:20151116T113000Z
DTSTAMP;VALUE=DATE-TIME:20260422T140831Z
UID:d1ae8d89a864a0b2e7c584708cbccb1e@127.0.0.1:8095
CATEGORIES:Ricordo - Collocazione targa
CREATED;VALUE=DATE-TIME:20151106T135129Z
DESCRIPTION:Nessuno può fare tutto. Ma tutti possono fare qualcosa 
LAST-MODIFIED;VALUE=DATE-TIME:20160222T103027Z
LOCATION:Sala Rossa Palazzina C\, Ospedale Maggiore Largo Bartolo Nigrisol
 i 2\, Bologna
URL:https://www.ausl.bologna.it/eventi/archivio/auslevent.2015-11-06.54563
 39818
END:VEVENT
END:VCALENDAR
