BEGIN:VCALENDAR
VERSION:2.0
PRODID:-//Plone.org//NONSGML plone.app.event//EN
X-WR-TIMEZONE:Europe/Rome
BEGIN:VEVENT
SUMMARY:Malattie a trasmissione alimentare e microbiologia predittiva
DTSTART;VALUE=DATE-TIME:20151126T073000Z
DTEND;VALUE=DATE-TIME:20151126T163000Z
DTSTAMP;VALUE=DATE-TIME:20260422T140831Z
UID:54cfa47d517dc605c8ef5845a555030e@127.0.0.1:8095
ATTENDEE;CN="Assistente sanitario, biologo, chimico, dietista, infermiere,
  medico chirurgo, tecnico di prevenzione, tecnico di laboratorio, veterina
 rio.";ROLE=REQ-PARTICIPANT:Assistente sanitario, biologo, chimico, dietist
 a, infermiere, medico chirurgo, tecnico di prevenzione, tecnico di laborat
 orio, veterinario.
CONTACT:Daniela Guidetti\, daniela.guidetti@ausl.bologna.it
CREATED;VALUE=DATE-TIME:20151104T133105Z
DESCRIPTION:Conoscere\, gestire e prevenire
LAST-MODIFIED;VALUE=DATE-TIME:20170420T103356Z
URL:https://www.ausl.bologna.it/eventi/archivio/auslevent.2015-11-04.95162
 53097
END:VEVENT
END:VCALENDAR
