BEGIN:VCALENDAR
VERSION:2.0
PRODID:-//Plone.org//NONSGML plone.app.event//EN
X-WR-TIMEZONE:Europe/Rome
BEGIN:VEVENT
SUMMARY:L’AZZARDO: MA CHE GIOCO E’? 
DTSTART;VALUE=DATE-TIME:20151107T073000Z
DTEND;VALUE=DATE-TIME:20151107T123000Z
DTSTAMP;VALUE=DATE-TIME:20260422T142131Z
UID:d2e571b509d052c2c3b26b5c360ea38a@127.0.0.1:8095
CREATED;VALUE=DATE-TIME:20151104T132539Z
DESCRIPTION:Esperienze a confronto: risorse e limiti
LAST-MODIFIED;VALUE=DATE-TIME:20160222T103006Z
LOCATION:Sala Tassinari\, Palazzo d’Accursio Piazza Maggiore\, 6 ‐ Bol
 ogna
URL:https://www.ausl.bologna.it/eventi/archivio/auslevent.2015-11-04.26427
 42213
END:VEVENT
END:VCALENDAR
