BEGIN:VCALENDAR
VERSION:2.0
PRODID:-//Plone.org//NONSGML plone.app.event//EN
X-WR-TIMEZONE:Europe/Rome
BEGIN:VEVENT
SUMMARY:Emergenza aflatossine:la filiera del mais dal controllo alla preve
 nzione
DTSTART;VALUE=DATE-TIME:20151124T073000Z
DTEND;VALUE=DATE-TIME:20151124T163000Z
DTSTAMP;VALUE=DATE-TIME:20260422T140304Z
UID:32d8959fae42485aa7c2f5b148b54510@127.0.0.1:8095
ATTENDEE;CN="Il convegno è rivolto agli operatori dell’Area della Sanit
 à Pubblica, dell’Area PSAL e dell’Area della Sanità pubblica Veterin
 aria delle Aziende Sanitarie";ROLE=REQ-PARTICIPANT:Il convegno è rivolto 
 agli operatori dell’Area della Sanità Pubblica, dell’Area PSAL e dell
 ’Area della Sanità pubblica Veterinaria delle Aziende Sanitarie
CATEGORIES:Convegno
CONTACT:Valentina Laudani - Daniela Guidetti - \, tel. 051.6644710\, valen
 tina.laudani@ausl.bologna.it
CREATED;VALUE=DATE-TIME:20151104T075526Z
LAST-MODIFIED;VALUE=DATE-TIME:20160222T103005Z
LOCATION:Zanhotel Europa Via Boldrini\, 11 Bologna
URL:https://www.ausl.bologna.it/eventi/archivio/auslevent.2015-11-04.04658
 93651
END:VEVENT
END:VCALENDAR
