BEGIN:VCALENDAR
VERSION:2.0
PRODID:-//Plone.org//NONSGML plone.app.event//EN
X-WR-TIMEZONE:Europe/Rome
BEGIN:VEVENT
SUMMARY:...siamo grandi e vaccinati...
DTSTART;VALUE=DATE-TIME:20151111T163000Z
DTEND;VALUE=DATE-TIME:20151111T183000Z
DTSTAMP;VALUE=DATE-TIME:20260422T140745Z
UID:fc450f81553a29ef74edee1309f86922@127.0.0.1:8095
CATEGORIES:Incontro
CONTACT:051 822440
CREATED;VALUE=DATE-TIME:20151030T161707Z
DESCRIPTION:Incontro 
LAST-MODIFIED;VALUE=DATE-TIME:20160222T103003Z
LOCATION:Via Carbonara\, 41 - San Giovanni in Persiceto (BO)
URL:https://www.ausl.bologna.it/eventi/archivio/auslevent.2015-10-30.75561
 06344
END:VEVENT
END:VCALENDAR
