BEGIN:VCALENDAR
VERSION:2.0
PRODID:-//Plone.org//NONSGML plone.app.event//EN
X-WR-TIMEZONE:Europe/Rome
BEGIN:VEVENT
SUMMARY:...siamo grandi e vaccinati...
DTSTART;VALUE=DATE-TIME:20151126T140000Z
DTEND;VALUE=DATE-TIME:20151126T160000Z
DTSTAMP;VALUE=DATE-TIME:20260422T142130Z
UID:442b74a559fc56bf82c6c5da20337e85@127.0.0.1:8095
CATEGORIES:Incontro
CONTACT:051 731385
CREATED;VALUE=DATE-TIME:20151030T164531Z
DESCRIPTION:Incontro 
LAST-MODIFIED;VALUE=DATE-TIME:20160222T103003Z
LOCATION:Via XXV aprile 25\, Anzola dell'Emilia (BO) 
URL:https://www.ausl.bologna.it/eventi/archivio/auslevent.2015-10-30.30058
 59725
END:VEVENT
END:VCALENDAR
