BEGIN:VCALENDAR
VERSION:2.0
PRODID:-//Plone.org//NONSGML plone.app.event//EN
X-WR-TIMEZONE:Europe/Rome
BEGIN:VEVENT
SUMMARY:Siamo grandi e vaccinati 
DTSTART;VALUE=DATE-TIME:20151105T140000Z
DTEND;VALUE=DATE-TIME:20151105T163000Z
DTSTAMP;VALUE=DATE-TIME:20260422T140304Z
UID:dfec608d22d614f95dabcc6462c0ea9a@127.0.0.1:8095
ATTENDEE;CN="Tutta la cittadinanza";ROLE=REQ-PARTICIPANT:Tutta la cittadin
 anza
CATEGORIES:Convegno
CONTACT:Segreteria Distretto Città di Bologna  (Azienda USL)\, 051 / 6597
 114-5
CREATED;VALUE=DATE-TIME:20151028T085437Z
DESCRIPTION:Anziani e freddo\, farmaci e vaccini
LAST-MODIFIED;VALUE=DATE-TIME:20160222T103002Z
LOCATION:Centro Sociale Rosa Marchi\, Via Pietro Nenni 11\, Bologna
URL:https://www.ausl.bologna.it/eventi/archivio/auslevent.2015-10-28.17160
 18185
END:VEVENT
END:VCALENDAR
