BEGIN:VCALENDAR
VERSION:2.0
PRODID:-//Plone.org//NONSGML plone.app.event//EN
X-WR-TIMEZONE:Europe/Rome
BEGIN:VEVENT
SUMMARY:La gestione multidisciplinare del dolore cronico
DTSTART;VALUE=DATE-TIME:20151107T081500Z
DTEND;VALUE=DATE-TIME:20151107T163000Z
DTSTAMP;VALUE=DATE-TIME:20260422T140851Z
UID:549e72f97e3af0572317beb5684a65d7@127.0.0.1:8095
ATTENDEE;CN="Il Corso è accreditato presso il Ministero della Salute per 
 le seguenti discipline: Neurologi, Ginecologi, Urologi, Fisiatri, Anestesi
 sti, Reumatologi, Geriatri, Medici di Medicina Generale, Internisti, Psico
 logi.";ROLE=REQ-PARTICIPANT:Il Corso è accreditato presso il Ministero de
 lla Salute per le seguenti discipline: Neurologi, Ginecologi, Urologi, Fis
 iatri, Anestesisti, Reumatologi, Geriatri, Medici di Medicina Generale, In
 ternisti, Psicologi.
CATEGORIES:Corso di aggiornamento
CONTACT:Dott.ssa Angela Rizzi\, angela.rizzi@organization.events
CREATED;VALUE=DATE-TIME:20151027T101718Z
DESCRIPTION:Corso accreditato presso il Ministero della Salute
LAST-MODIFIED;VALUE=DATE-TIME:20160222T103001Z
LOCATION:Ospedale Bellaria\, Aula Tinozzi
URL:https://www.ausl.bologna.it/eventi/archivio/auslevent.2015-10-27.50074
 83112
END:VEVENT
END:VCALENDAR
