BEGIN:VCALENDAR
VERSION:2.0
PRODID:-//Plone.org//NONSGML plone.app.event//EN
X-WR-TIMEZONE:Europe/Rome
BEGIN:VEVENT
SUMMARY:Inaugurazione del Nuovo Centro di Donazione del sangue di Molinell
 a
DTSTART;VALUE=DATE-TIME:20151031T093000Z
DTEND;VALUE=DATE-TIME:20151031T123000Z
DTSTAMP;VALUE=DATE-TIME:20260422T140306Z
UID:3e3c0920bc5ce334d94d277fbf4a43e7@127.0.0.1:8095
CATEGORIES:Inaugurazione
CREATED;VALUE=DATE-TIME:20151026T130319Z
DESCRIPTION:Sabato 31 ottobre alle 10.30 al Polo Sanitario di Molinella
LAST-MODIFIED;VALUE=DATE-TIME:20151029T094038Z
LOCATION:Polo sanitario di Molinella
URL:https://www.ausl.bologna.it/eventi/archivio/auslevent.2015-10-26.54568
 96540
END:VEVENT
END:VCALENDAR
