BEGIN:VCALENDAR
VERSION:2.0
PRODID:-//Plone.org//NONSGML plone.app.event//EN
X-WR-TIMEZONE:Europe/Rome
BEGIN:VEVENT
SUMMARY:Crescere diritti
DTSTART;VALUE=DATE-TIME:20151016T060000Z
DTEND;VALUE=DATE-TIME:20151016T113000Z
DTSTAMP;VALUE=DATE-TIME:20260422T142130Z
UID:e8fdb12954c1b8a55ed0178b1dfdf65e@127.0.0.1:8095
CATEGORIES:Convegno
CREATED;VALUE=DATE-TIME:20151014T133218Z
LAST-MODIFIED;VALUE=DATE-TIME:20160222T102815Z
LOCATION:Auditorium Enzo Biagi\, Piazza Nettuno 3\, Bologna
URL:https://www.ausl.bologna.it/eventi/archivio/auslevent.2015-10-14.39615
 54665
END:VEVENT
END:VCALENDAR
