BEGIN:VCALENDAR
VERSION:2.0
PRODID:-//Plone.org//NONSGML plone.app.event//EN
X-WR-TIMEZONE:Europe/Rome
BEGIN:VEVENT
SUMMARY:Bologna Stroke  - Grandangolo 
DTSTART;VALUE=DATE-TIME:20151030T073000Z
DTEND;VALUE=DATE-TIME:20151030T173000Z
DTSTAMP;VALUE=DATE-TIME:20260422T103609Z
UID:0373a7c534599b656da4076e18ac7908@127.0.0.1:8095
ATTENDEE;CN="L'iscrizione al congresso è gratuita";ROLE=REQ-PARTICIPANT:L
 'iscrizione al congresso è gratuita
CATEGORIES:congresso
CREATED;VALUE=DATE-TIME:20151009T132443Z
DESCRIPTION:Congresso 
LAST-MODIFIED;VALUE=DATE-TIME:20160222T102814Z
LOCATION:Bologna Aula Murri\, S.Orsola-Malpighi padd. 25-27-28 primo piano
  – Via Massarenti\, 9 
URL:https://www.ausl.bologna.it/eventi/archivio/auslevent.2015-10-09.36088
 81656
END:VEVENT
END:VCALENDAR
