BEGIN:VCALENDAR
VERSION:2.0
PRODID:-//Plone.org//NONSGML plone.app.event//EN
X-WR-TIMEZONE:Europe/Rome
BEGIN:VEVENT
SUMMARY:Giornata Europea dei Risvegli. Per la Ricerca sul coma - Vale la p
 ena  
DTSTART;VALUE=DATE-TIME:20151010T063000Z
DTEND;VALUE=DATE-TIME:20151010T113000Z
DTSTAMP;VALUE=DATE-TIME:20260422T142131Z
UID:1ea0c59a82538b51d61db26c05bdc850@127.0.0.1:8095
CATEGORIES:Convegno
CREATED;VALUE=DATE-TIME:20151007T144415Z
DESCRIPTION:Rapporto sugli stati vegetativi in Italia - I risultati dello 
 studio Vesta
LAST-MODIFIED;VALUE=DATE-TIME:20160222T102811Z
LOCATION:Ordine dei Medici di Bologna - Via Zaccherini alvisi\, 4 - Bologn
 a 
URL:https://www.ausl.bologna.it/eventi/archivio/auslevent.2015-10-07.88325
 96001
END:VEVENT
END:VCALENDAR
