BEGIN:VCALENDAR
VERSION:2.0
PRODID:-//Plone.org//NONSGML plone.app.event//EN
X-WR-TIMEZONE:Europe/Rome
BEGIN:VEVENT
SUMMARY:Le Demenze tra Ambiente\, Farmaci\, Alimentazione e Stili di vita 
DTSTART;VALUE=DATE-TIME:20151023T063000Z
DTEND;VALUE=DATE-TIME:20151023T143000Z
DTSTAMP;VALUE=DATE-TIME:20260420T143351Z
UID:0b498c0984216692b816522894694b60@127.0.0.1:8095
CATEGORIES:congresso
CONTACT:Momeda Eventi srl\, 051 5876729\, info@momedaeventi.com
CREATED;VALUE=DATE-TIME:20151006T123952Z
DESCRIPTION:Congresso 
LAST-MODIFIED;VALUE=DATE-TIME:20160222T102808Z
LOCATION:Bologna Oratorio San Filippo Neri\, Via Manzoni 5
URL:https://www.ausl.bologna.it/eventi/archivio/auslevent.2015-10-06.11492
 19964
END:VEVENT
END:VCALENDAR
