BEGIN:VCALENDAR
VERSION:2.0
PRODID:-//Plone.org//NONSGML plone.app.event//EN
X-WR-TIMEZONE:Europe/Rome
BEGIN:VEVENT
SUMMARY:Visite straordinarie a Palazzo Ratta Pizzardi\, sede legale dell'A
 zienda USL di Bologna
DTSTART;VALUE=DATE-TIME:20151011T080000Z
DTEND;VALUE=DATE-TIME:20151011T110000Z
DTSTAMP;VALUE=DATE-TIME:20260420T183731Z
UID:7fa5cb4063799a66f3f1f7d11711570f@127.0.0.1:8095
ATTENDEE;CN="Parte delle visite, condotte da personale museale esperto, sa
 ranno dedicate ai dipendenti dell'Azienda USL di Bologna. Il numero delle 
 visite è limitato, e vi si può accedere attraverso prenotazione.";ROLE=R
 EQ-PARTICIPANT:Parte delle visite, condotte da personale museale esperto, 
 saranno dedicate ai dipendenti dell'Azienda USL di Bologna. Il numero dell
 e visite è limitato, e vi si può accedere attraverso prenotazione.
CATEGORIES:Visita guidata
CONTACT:348 41 60 396 - 340 34 67 731\, danila.guidi@ausl.bologna.it
CREATED;VALUE=DATE-TIME:20151005T151257Z
DESCRIPTION:Visite guidate arricchite dalla Compagnia Teatro Ragazzi - Art
 e e Salute Onlus
LAST-MODIFIED;VALUE=DATE-TIME:20160222T102802Z
LOCATION:Bologna - Via Castiglione\, 29 
URL:https://www.ausl.bologna.it/eventi/archivio/auslevent.2015-10-05.60678
 27415
END:VEVENT
END:VCALENDAR
