BEGIN:VCALENDAR
VERSION:2.0
PRODID:-//Plone.org//NONSGML plone.app.event//EN
X-WR-TIMEZONE:Europe/Rome
BEGIN:VEVENT
SUMMARY:Conferenza Italo-Brasiliana
DTSTART;VALUE=DATE-TIME:20151010T064500Z
DTEND;VALUE=DATE-TIME:20151010T110000Z
DTSTAMP;VALUE=DATE-TIME:20260420T080223Z
UID:4b13f06796571eae5ab5b03d78d27520@127.0.0.1:8095
CATEGORIES:Conferenza
CONTACT:340 3467731  348 4160396   051 5288513\, elisabetta.mazzanti@citta
 metropolitana.bo.it
CREATED;VALUE=DATE-TIME:20151005T124514Z
DESCRIPTION:Belo Horizonte e Bologna: la Salute Mentale a confronto 
LAST-MODIFIED;VALUE=DATE-TIME:20160222T102759Z
LOCATION:Aula Colonne Ex Presidio Roncati - Via S. Isaia\, 90 - Bologna 
URL:https://www.ausl.bologna.it/eventi/archivio/auslevent.2015-10-05.08904
 91193
END:VEVENT
END:VCALENDAR
