BEGIN:VCALENDAR
VERSION:2.0
PRODID:-//Plone.org//NONSGML plone.app.event//EN
X-WR-TIMEZONE:Europe/Rome
BEGIN:VEVENT
SUMMARY:Giornata europea dei Risvegli per la ricerca sul coma - Vale la pe
 na 
DTSTART;VALUE=DATE-TIME:20151007T070000Z
DTEND;VALUE=DATE-TIME:20151007T103000Z
DTSTAMP;VALUE=DATE-TIME:20260420T125353Z
UID:23456a4bb5115c0f1872572df14268d6@127.0.0.1:8095
CATEGORIES:Open Day
CREATED;VALUE=DATE-TIME:20151002T142044Z
DESCRIPTION:Open Day
LAST-MODIFIED;VALUE=DATE-TIME:20160222T102610Z
LOCATION:Casa dei Risvegli Luca De Nigris - Ospedale Bellaria - Via Giulio
  Gaist\, 6 - Bologna
URL:https://www.ausl.bologna.it/eventi/archivio/auslevent.2015-10-02.36690
 72447
END:VEVENT
END:VCALENDAR
