BEGIN:VCALENDAR
VERSION:2.0
PRODID:-//Plone.org//NONSGML plone.app.event//EN
X-WR-TIMEZONE:Europe/Rome
BEGIN:VEVENT
SUMMARY:Allattiamo insieme! Let's breastfeed together!
DTSTART;VALUE=DATE-TIME:20151002T220000Z
DTEND;VALUE=DATE-TIME:20151002T220000Z
DTSTAMP;VALUE=DATE-TIME:20260420T162655Z
UID:6b0b9931ef05b78ab2e9b686d87a1679@127.0.0.1:8095
CATEGORIES:Flash mob
CREATED;VALUE=DATE-TIME:20150930T132134Z
DESCRIPTION:In occasione della Settimana mondiale dell’allattamento al s
 eno 2015 che ha per tema "Allattamento e lavoro: mettiamoci al lavoro!"\n
LAST-MODIFIED;VALUE=DATE-TIME:20160222T102603Z
URL:https://www.ausl.bologna.it/eventi/archivio/auslevent.2015-09-30.94961
 66096
END:VEVENT
END:VCALENDAR
