BEGIN:VCALENDAR
VERSION:2.0
PRODID:-//Plone.org//NONSGML plone.app.event//EN
X-WR-TIMEZONE:Europe/Rome
BEGIN:VEVENT
SUMMARY:69° Congresso Nazionale  della Società Italiana di Anestesia Ana
 lgesia  Rianimazione e Terapia Intensiva SIAARTI
DTSTART;VALUE=DATE-TIME:20151014T063000Z
DTEND;VALUE=DATE-TIME:20151017T110000Z
DTSTAMP;VALUE=DATE-TIME:20260420T143351Z
UID:d88d8882c5ec24f6bcfd8caf902c9a10@127.0.0.1:8095
CATEGORIES:congresso
CREATED;VALUE=DATE-TIME:20150911T150201Z
LAST-MODIFIED;VALUE=DATE-TIME:20160222T102540Z
LOCATION:Palazzo della Cultura e dei Congressi Piazza Costituzione\, 4/a 
 – Bologna
URL:https://www.ausl.bologna.it/eventi/archivio/auslevent.2015-09-11.38776
 46375
END:VEVENT
END:VCALENDAR
