BEGIN:VCALENDAR
VERSION:2.0
PRODID:-//Plone.org//NONSGML plone.app.event//EN
X-WR-TIMEZONE:Europe/Rome
BEGIN:VEVENT
SUMMARY:Sistemi sociali e sistemi familiari tra crisi e sviluppo. L'approc
 cio sistemico alle povertà
DTSTART;VALUE=DATE-TIME:20151016T070000Z
DTEND;VALUE=DATE-TIME:20151017T163000Z
DTSTAMP;VALUE=DATE-TIME:20260420T143350Z
UID:eda773f146af0a9b792ed5a1d2b0f91a@127.0.0.1:8095
CATEGORIES:congresso
CREATED;VALUE=DATE-TIME:20150810T150937Z
DESCRIPTION:Congresso Internazionale 
LAST-MODIFIED;VALUE=DATE-TIME:20160222T102122Z
LOCATION:Centro Congressi FAST - Piazzale Morandi\, 2. Milano 
URL:https://www.ausl.bologna.it/eventi/archivio/auslevent.2015-08-10.18039
 87392
END:VEVENT
END:VCALENDAR
