BEGIN:VCALENDAR
VERSION:2.0
PRODID:-//Plone.org//NONSGML plone.app.event//EN
X-WR-TIMEZONE:Europe/Rome
BEGIN:VEVENT
SUMMARY:La competenza clinica in neurologia pediatrica: dalla diagnosi all
 a terapia 
DTSTART;VALUE=DATE-TIME:20151125T080000Z
DTEND;VALUE=DATE-TIME:20151128T113000Z
DTSTAMP;VALUE=DATE-TIME:20260420T143352Z
UID:639983d894c728a5e848bb90685e4fe6@127.0.0.1:8095
CATEGORIES:congresso
CONTACT:Biomedia S.r.l.\, 02 45498282\, congressosinp@biomedia.net
CREATED;VALUE=DATE-TIME:20150803T145152Z
DESCRIPTION:XLI Congresso nazionale Società Italiana di Neurologia Pediat
 rica - 1° Congresso nazionale del Gruppo Infermieri Neurologia Pediatrica
   
LAST-MODIFIED;VALUE=DATE-TIME:20160222T102110Z
LOCATION:Bologna - Savoia Hotels\, Via del Pilastro\, 2 
URL:https://www.ausl.bologna.it/eventi/archivio/auslevent.2015-08-03.35202
 63178
END:VEVENT
END:VCALENDAR
