BEGIN:VCALENDAR
VERSION:2.0
PRODID:-//Plone.org//NONSGML plone.app.event//EN
X-WR-TIMEZONE:Europe/Rome
BEGIN:VEVENT
SUMMARY:Cross Over Live 
DTSTART;VALUE=DATE-TIME:20150709T190000Z
DTEND;VALUE=DATE-TIME:20150709T210000Z
DTSTAMP;VALUE=DATE-TIME:20260420T183650Z
UID:5e430a57d8cb251ae6bc557834f9c19f@127.0.0.1:8095
CATEGORIES:Spettacolo musicale
CREATED;VALUE=DATE-TIME:20150708T100414Z
DESCRIPTION:Spettacolo 
LAST-MODIFIED;VALUE=DATE-TIME:20160222T102103Z
LOCATION:San Lazzaro di Savena (BO) - Cortile del Palazzo comunale 
URL:https://www.ausl.bologna.it/eventi/archivio/auslevent.2015-07-08.50557
 74075
END:VEVENT
END:VCALENDAR
