BEGIN:VCALENDAR
VERSION:2.0
PRODID:-//Plone.org//NONSGML plone.app.event//EN
X-WR-TIMEZONE:Europe/Rome
BEGIN:VEVENT
SUMMARY:“La salute dei tossicodipendenti”  
DTSTART;VALUE=DATE-TIME:20151106T080000Z
DTEND;VALUE=DATE-TIME:20151106T160000Z
DTSTAMP;VALUE=DATE-TIME:20260421T170000Z
UID:075cb5e799c56ccb4f63e7aa8e1a1731@127.0.0.1:8095
CATEGORIES:Convegno
CREATED;VALUE=DATE-TIME:20150619T142556Z
DESCRIPTION:Convegno 
LAST-MODIFIED;VALUE=DATE-TIME:20160222T101941Z
LOCATION:Sala Convegni - Casa dei Donatori di Sangue Avis \, Via dell'Ospe
 dale 20 - Bologna 
URL:https://www.ausl.bologna.it/eventi/archivio/auslevent.2015-06-19.57473
 72304
END:VEVENT
END:VCALENDAR
