BEGIN:VCALENDAR
VERSION:2.0
PRODID:-//Plone.org//NONSGML plone.app.event//EN
X-WR-TIMEZONE:Europe/Rome
BEGIN:VEVENT
SUMMARY:Farmaci\, Anziani e Ondate di Calore
DTSTART;VALUE=DATE-TIME:20150624T073000Z
DTEND;VALUE=DATE-TIME:20150624T090000Z
DTSTAMP;VALUE=DATE-TIME:20260421T165056Z
UID:e6a382046aa88f92146b86980ce34cba@127.0.0.1:8095
ATTENDEE;CN="Anziani iscritti ai centri sociali, partecipanti a progetti d
 i sostegno alla fragilità, utenti del servizio e-Care, caregiver e assist
 enti famigliari.";ROLE=REQ-PARTICIPANT:Anziani iscritti ai centri sociali,
  partecipanti a progetti di sostegno alla fragilità, utenti del servizio 
 e-Care, caregiver e assistenti famigliari.
CONTACT:Segreteria Distretto Città di Bologna  \, 051/6597114-5
CREATED;VALUE=DATE-TIME:20150615T162431Z
DESCRIPTION:24 giugno 2015\, ore 09\,30\, Centro Sociale Montanari\, Via d
 i Saliceto\, 3/21\, Bologna
LAST-MODIFIED;VALUE=DATE-TIME:20160222T101938Z
LOCATION:Centro Sociale Montanari\, Via di Saliceto\, 3/21\, Bologna
URL:https://www.ausl.bologna.it/eventi/archivio/auslevent.2015-06-15.21874
 48216
END:VEVENT
END:VCALENDAR
