BEGIN:VCALENDAR
VERSION:2.0
PRODID:-//Plone.org//NONSGML plone.app.event//EN
X-WR-TIMEZONE:Europe/Rome
BEGIN:VEVENT
SUMMARY:Trattamento delle fratture diafisarie 
DTSTART;VALUE=DATE-TIME:20150612T143000Z
DTEND;VALUE=DATE-TIME:20150612T180000Z
DTSTAMP;VALUE=DATE-TIME:20260421T170207Z
UID:5432e24d86794affc0880f70e2cdac73@127.0.0.1:8095
CATEGORIES:corso
CONTACT:039 6094285\, claudia.cogliati@smith-nephew.com
CREATED;VALUE=DATE-TIME:20150610T135731Z
DESCRIPTION:Corso 
LAST-MODIFIED;VALUE=DATE-TIME:20160222T101936Z
LOCATION:Hotel Savoia Regency - Via del Pilastro\, 2 - Bologna 
URL:https://www.ausl.bologna.it/eventi/archivio/auslevent.2015-06-10.63031
 85768
END:VEVENT
END:VCALENDAR
