BEGIN:VCALENDAR
VERSION:2.0
PRODID:-//Plone.org//NONSGML plone.app.event//EN
X-WR-TIMEZONE:Europe/Rome
BEGIN:VEVENT
SUMMARY:I matti del Duce - Festival "Delle Cure\, delle Arti..." 2^ edizio
 ne
DTSTART;VALUE=DATE-TIME:20150604T153000Z
DTEND;VALUE=DATE-TIME:20150604T173000Z
DTSTAMP;VALUE=DATE-TIME:20260421T164918Z
UID:94abf7bcf05566af13863973fa6774d5@127.0.0.1:8095
CATEGORIES:Incontro
CREATED;VALUE=DATE-TIME:20150529T150706Z
DESCRIPTION:L'internamento psichiatrico come strumento di repressione poli
 tica e sociale nell'Italia fascista
LAST-MODIFIED;VALUE=DATE-TIME:20160222T101842Z
LOCATION:Biblioteca Salute Mentale e delle Scienze Umane "Minguzzi-Gentili
 "\, via Sant'Isaia\, 90 - Bologna 
URL:https://www.ausl.bologna.it/eventi/archivio/auslevent.2015-05-29.76294
 38369
END:VEVENT
END:VCALENDAR
