BEGIN:VCALENDAR
VERSION:2.0
PRODID:-//Plone.org//NONSGML plone.app.event//EN
X-WR-TIMEZONE:Europe/Rome
BEGIN:VEVENT
SUMMARY:Mostra del Collettivo Artisti Irregolari Bolognesi
DTSTART;VALUE=DATE-TIME:20150609T063000Z
DTEND;VALUE=DATE-TIME:20150610T160000Z
DTSTAMP;VALUE=DATE-TIME:20260420T150453Z
UID:b17b4b558e1618fc3d9cbdab9c731e68@127.0.0.1:8095
CATEGORIES:mostra
CREATED;VALUE=DATE-TIME:20150529T151855Z
DESCRIPTION:Festival "Delle Cure\, delle Arti..." 2^ edizione 
LAST-MODIFIED;VALUE=DATE-TIME:20160222T101931Z
LOCATION:Quadriportico\, ex Presidio Roncati\, via Sant'Isaia\, 90 - Bolog
 na 
URL:https://www.ausl.bologna.it/eventi/archivio/auslevent.2015-05-29.57841
 57346
END:VEVENT
END:VCALENDAR
