BEGIN:VCALENDAR
VERSION:2.0
PRODID:-//Plone.org//NONSGML plone.app.event//EN
X-WR-TIMEZONE:Europe/Rome
BEGIN:VEVENT
SUMMARY:Archivi della Salute e dell'Assistenza - Festival "Delle Cure\, de
 lle Arti..." 2^ edizione
DTSTART;VALUE=DATE-TIME:20150608T153000Z
DTEND;VALUE=DATE-TIME:20150608T173000Z
DTSTAMP;VALUE=DATE-TIME:20260421T165023Z
UID:cb40078683e4c43f2a0ec1528ac520b3@127.0.0.1:8095
CATEGORIES:Incontro
CREATED;VALUE=DATE-TIME:20150529T151357Z
DESCRIPTION:Approfondimeto sul tema della salute e dell'assistenza all'int
 erno delle più recenti e interessanti ricerche ed esperienze tra i fondi 
 nella città di Bologna.
LAST-MODIFIED;VALUE=DATE-TIME:20160222T101930Z
LOCATION:Salal Colonne\, ex Presidio Roncati via Sant'Isaia\, 90 - Bologna
  
URL:https://www.ausl.bologna.it/eventi/archivio/auslevent.2015-05-29.26073
 62539
END:VEVENT
END:VCALENDAR
