BEGIN:VCALENDAR
VERSION:2.0
PRODID:-//Plone.org//NONSGML plone.app.event//EN
X-WR-TIMEZONE:Europe/Rome
BEGIN:VEVENT
SUMMARY:Arte\, Teatro e laboratori artigianali  
DTSTART;VALUE=DATE-TIME:20150610T080000Z
DTEND;VALUE=DATE-TIME:20150610T143000Z
DTSTAMP;VALUE=DATE-TIME:20260421T164419Z
UID:d4f53328bcbf75b68ad670058d3e5c1e@127.0.0.1:8095
ATTENDEE;CN="La partecipazione ai laboratori artigianali è libera, previa
  iscrizione";ROLE=REQ-PARTICIPANT:La partecipazione ai laboratori artigian
 ali è libera, previa iscrizione
CATEGORIES:Giornata
CREATED;VALUE=DATE-TIME:20150529T152840Z
DESCRIPTION:Una giornata di animazione e di cultura all'ex Presidio Roncat
 i 
LAST-MODIFIED;VALUE=DATE-TIME:20160222T101932Z
LOCATION:Quadriportico e cortile ex Presidio Roncati\, via Sant'Isaia\, 90
  - Bologna 
URL:https://www.ausl.bologna.it/eventi/archivio/auslevent.2015-05-29.02731
 23783
END:VEVENT
END:VCALENDAR
