BEGIN:VCALENDAR
VERSION:2.0
PRODID:-//Plone.org//NONSGML plone.app.event//EN
X-WR-TIMEZONE:Europe/Rome
BEGIN:VEVENT
SUMMARY:Dài colore al sollievo - Più cure domiciliari\, più strutture c
 ontro il dolore\, da oggi nella tua Regione è possibile 
DTSTART;VALUE=DATE-TIME:20150530T220000Z
DTEND;VALUE=DATE-TIME:20150530T220000Z
DTSTAMP;VALUE=DATE-TIME:20260421T170301Z
UID:3afa1156682fa28a2c60d5e2358d1a35@127.0.0.1:8095
CATEGORIES:Giornata nazionale
CREATED;VALUE=DATE-TIME:20150527T142121Z
DESCRIPTION:14^ Giornata Nazionale del Sollievo 
LAST-MODIFIED;VALUE=DATE-TIME:20160222T101840Z
LOCATION:Parco della Montagnola\, via Irnerio - Bologna 
URL:https://www.ausl.bologna.it/eventi/archivio/auslevent.2015-05-27.10507
 91569
END:VEVENT
END:VCALENDAR
