BEGIN:VCALENDAR
VERSION:2.0
PRODID:-//Plone.org//NONSGML plone.app.event//EN
X-WR-TIMEZONE:Europe/Rome
BEGIN:VEVENT
SUMMARY:Il teatro illimitato 
DTSTART;VALUE=DATE-TIME:20150530T160000Z
DTEND;VALUE=DATE-TIME:20150530T180000Z
DTSTAMP;VALUE=DATE-TIME:20260421T170137Z
UID:08384f6c66a8973213819c09f6d64e4d@127.0.0.1:8095
CATEGORIES:Conversazione
CREATED;VALUE=DATE-TIME:20150526T124003Z
DESCRIPTION:Festival Delle Cure\, delle Arti…Arte\, Salute e Società
LAST-MODIFIED;VALUE=DATE-TIME:20160222T101839Z
LOCATION:Oratorio dei Battuti - Complesso Monumentale di Santa Maria della
  Vita\, in via Clavature 8
URL:https://www.ausl.bologna.it/eventi/archivio/auslevent.2015-05-26.82482
 08338
END:VEVENT
END:VCALENDAR
