BEGIN:VCALENDAR
VERSION:2.0
PRODID:-//Plone.org//NONSGML plone.app.event//EN
X-WR-TIMEZONE:Europe/Rome
BEGIN:VEVENT
SUMMARY:Multi drug resistant organisms: appropriatezza antibiotica e buone
  pratiche assistenziali 
DTSTART;VALUE=DATE-TIME:20150611T064500Z
DTEND;VALUE=DATE-TIME:20150611T153000Z
DTSTAMP;VALUE=DATE-TIME:20260421T170301Z
UID:118e8dbee582f23bc728574ca7f52125@127.0.0.1:8095
CATEGORIES:Corso di aggiornamento
CONTACT:EV.O. s.r.l.s.\, 349-2276792\, angela.rizzi@organization.events
CREATED;VALUE=DATE-TIME:20150525T150140Z
DESCRIPTION:Corso di aggiornamento 
LAST-MODIFIED;VALUE=DATE-TIME:20160222T101838Z
LOCATION:Bologna - Aula Magna Tinozzi\, ospedale Bellaria 
URL:https://www.ausl.bologna.it/eventi/archivio/auslevent.2015-05-25.65858
 22791
END:VEVENT
END:VCALENDAR
