BEGIN:VCALENDAR
VERSION:2.0
PRODID:-//Plone.org//NONSGML plone.app.event//EN
X-WR-TIMEZONE:Europe/Rome
BEGIN:VEVENT
SUMMARY:Benessere & Divertimento 
DTSTART;VALUE=DATE-TIME:20150531T080000Z
DTEND;VALUE=DATE-TIME:20150531T173000Z
DTSTAMP;VALUE=DATE-TIME:20260421T170137Z
UID:816313bafee9e34006670a2b49c37181@127.0.0.1:8095
CATEGORIES:Giornata di benessere\, divertimento e sport
CREATED;VALUE=DATE-TIME:20150525T092232Z
DESCRIPTION:Datti una mossa! - Una giornata per la salute del corpo e dell
 a mente
LAST-MODIFIED;VALUE=DATE-TIME:20160222T101836Z
LOCATION:Parco della Montagnola\, Via Irnerio - Bologna 
URL:https://www.ausl.bologna.it/eventi/archivio/auslevent.2015-05-25.37054
 63099
END:VEVENT
END:VCALENDAR
