BEGIN:VCALENDAR
VERSION:2.0
PRODID:-//Plone.org//NONSGML plone.app.event//EN
X-WR-TIMEZONE:Europe/Rome
BEGIN:VEVENT
SUMMARY:Nuova formazione\, nuove terapie\, nuova organizzazione per curare
  a casa 
DTSTART;VALUE=DATE-TIME:20150528T100000Z
DTEND;VALUE=DATE-TIME:20150530T110000Z
DTSTAMP;VALUE=DATE-TIME:20260421T170308Z
UID:f8be3ae2346f5ab528faa9a1fa93ebfc@127.0.0.1:8095
CATEGORIES:congresso
CREATED;VALUE=DATE-TIME:20150522T105918Z
DESCRIPTION:Terza Conferenza Nazionale Cure Domiciliari 
LAST-MODIFIED;VALUE=DATE-TIME:20160222T101834Z
LOCATION:Università di Bolonga - aule Belmeloro - Via Belmeloro\, 14 
URL:https://www.ausl.bologna.it/eventi/archivio/auslevent.2015-05-22.87057
 49835
END:VEVENT
END:VCALENDAR
