BEGIN:VCALENDAR
VERSION:2.0
PRODID:-//Plone.org//NONSGML plone.app.event//EN
X-WR-TIMEZONE:Europe/Rome
BEGIN:VEVENT
SUMMARY:Giornata di prevenzione dell'ictus cerebrale 
DTSTART;VALUE=DATE-TIME:20150524T080000Z
DTEND;VALUE=DATE-TIME:20150524T160000Z
DTSTAMP;VALUE=DATE-TIME:20260421T165959Z
UID:79912c1f9d8c32e3e03c3408614b4216@127.0.0.1:8095
CATEGORIES:Giornata di prevenzione
CONTACT:info@alicebologna.it
CREATED;VALUE=DATE-TIME:20150521T110622Z
DESCRIPTION:Ascolta il tuo cuore per salvare il tuo cervello \n
LAST-MODIFIED;VALUE=DATE-TIME:20160222T101832Z
LOCATION:Piazza VIII Agosto - Bologna 
URL:https://www.ausl.bologna.it/eventi/archivio/auslevent.2015-05-21.79632
 51034
END:VEVENT
END:VCALENDAR
