BEGIN:VCALENDAR
VERSION:2.0
PRODID:-//Plone.org//NONSGML plone.app.event//EN
X-WR-TIMEZONE:Europe/Rome
BEGIN:VEVENT
SUMMARY:E' urgente fare squadra!
DTSTART;VALUE=DATE-TIME:20150523T070000Z
DTEND;VALUE=DATE-TIME:20150523T170000Z
DTSTAMP;VALUE=DATE-TIME:20260421T170126Z
UID:32e7cc735663bdbe2808b1cffa91bc6f@127.0.0.1:8095
CATEGORIES:Settimana Nazionale
CREATED;VALUE=DATE-TIME:20150520T144114Z
DESCRIPTION:16-24 maggio - Settimana nazionale del Pronto Soccorso SIMEU -
   2^ edizione
LAST-MODIFIED;VALUE=DATE-TIME:20160222T101830Z
LOCATION:Centro commerciale di Via Larga - Via Larga\, 10 Bologna 
URL:https://www.ausl.bologna.it/eventi/archivio/auslevent.2015-05-20.44660
 02244
END:VEVENT
END:VCALENDAR
