BEGIN:VCALENDAR
VERSION:2.0
PRODID:-//Plone.org//NONSGML plone.app.event//EN
X-WR-TIMEZONE:Europe/Rome
BEGIN:VEVENT
SUMMARY:Le competenze specialistiche in ambito infemieristico 
DTSTART;VALUE=DATE-TIME:20150606T063000Z
DTEND;VALUE=DATE-TIME:20150606T160000Z
DTSTAMP;VALUE=DATE-TIME:20260421T164820Z
UID:4697e7dcac8d880200c645f7288da78e@127.0.0.1:8095
CATEGORIES:congresso
CONTACT:055 6800389\, info@fimo.biz
CREATED;VALUE=DATE-TIME:20150520T113424Z
DESCRIPTION:Dall'impianto alla gestione degli accessi vascolari 
LAST-MODIFIED;VALUE=DATE-TIME:20160222T101829Z
LOCATION:Hotel NH Bologna De La Gare\, Piazza XX Settembre\, 2 - Bologna 
URL:https://www.ausl.bologna.it/eventi/archivio/auslevent.2015-05-20.07367
 96741
END:VEVENT
END:VCALENDAR
