BEGIN:VCALENDAR
VERSION:2.0
PRODID:-//Plone.org//NONSGML plone.app.event//EN
X-WR-TIMEZONE:Europe/Rome
BEGIN:VEVENT
SUMMARY:La gestione della frattura da fragilità: il percorso dell'Ospedal
 e Maggiore 
DTSTART;VALUE=DATE-TIME:20150521T120000Z
DTEND;VALUE=DATE-TIME:20150521T163000Z
DTSTAMP;VALUE=DATE-TIME:20260421T164758Z
UID:bcfe7659c9a69eec8e9eb29873df5f24@127.0.0.1:8095
ATTENDEE;CN="Iscrizioni gratuite e a numero chiuso (60 posti disponibili)"
 ;ROLE=REQ-PARTICIPANT:Iscrizioni gratuite e a numero chiuso (60 posti disp
 onibili)
CATEGORIES:corso
CONTACT:051 614 4004\, sabina.espositi@iec-srl.it
CREATED;VALUE=DATE-TIME:20150519T114957Z
DESCRIPTION:Corso 
LAST-MODIFIED;VALUE=DATE-TIME:20160222T101827Z
LOCATION:Ospedale Maggiore - Bologna 
URL:https://www.ausl.bologna.it/eventi/archivio/auslevent.2015-05-19.87002
 47105
END:VEVENT
END:VCALENDAR
