BEGIN:VCALENDAR
VERSION:2.0
PRODID:-//Plone.org//NONSGML plone.app.event//EN
X-WR-TIMEZONE:Europe/Rome
BEGIN:VEVENT
SUMMARY:De Corporis Fabrica 
DTSTART;VALUE=DATE-TIME:20150528T160000Z
DTEND;VALUE=DATE-TIME:20150528T180000Z
DTSTAMP;VALUE=DATE-TIME:20260421T170301Z
UID:c0f292ebdfc16c4d21feccf0652041a9@127.0.0.1:8095
CATEGORIES:Presentazione libro
CREATED;VALUE=DATE-TIME:20150518T132134Z
DESCRIPTION:Delle cure delle arti. Arte\, salute e società - 2^ edizione
LAST-MODIFIED;VALUE=DATE-TIME:20160222T101824Z
LOCATION:Bologna - Oratorio dei Battuti Complesso Monumentale di Santa Mar
 ia della Vita\, via Clavature\, 8
URL:https://www.ausl.bologna.it/eventi/archivio/auslevent.2015-05-18.90714
 04118
END:VEVENT
END:VCALENDAR
