BEGIN:VCALENDAR
VERSION:2.0
PRODID:-//Plone.org//NONSGML plone.app.event//EN
X-WR-TIMEZONE:Europe/Rome
BEGIN:VEVENT
SUMMARY:Repertorio dei matti della città di Bologna 
DTSTART;VALUE=DATE-TIME:20150527T190000Z
DTEND;VALUE=DATE-TIME:20150527T210000Z
DTSTAMP;VALUE=DATE-TIME:20260421T170054Z
UID:991b1c2ff74e5f1db4d72dd47c638282@127.0.0.1:8095
CATEGORIES:Presentazione libro
CREATED;VALUE=DATE-TIME:20150518T124602Z
DESCRIPTION:Delle cure delle arti. Arte\, salute e società - 2^ edizione
LAST-MODIFIED;VALUE=DATE-TIME:20160222T101823Z
LOCATION:Bologna - Oratorio dei Battuti Complesso Monumentale di Santa Mar
 ia della Vita\, via Clavature\, 8
URL:https://www.ausl.bologna.it/eventi/archivio/auslevent.2015-05-18.68122
 23826
END:VEVENT
END:VCALENDAR
