BEGIN:VCALENDAR
VERSION:2.0
PRODID:-//Plone.org//NONSGML plone.app.event//EN
X-WR-TIMEZONE:Europe/Rome
BEGIN:VEVENT
SUMMARY:Visite guidate all’ex Presidio Roncati
DTSTART;VALUE=DATE-TIME:20150603T133000Z
DTEND;VALUE=DATE-TIME:20150603T153000Z
DTSTAMP;VALUE=DATE-TIME:20260420T183339Z
UID:b346a6d0ce0242cd2210000217170069@127.0.0.1:8095
CATEGORIES:Visita guidata
CREATED;VALUE=DATE-TIME:20150518T151359Z
DESCRIPTION:Delle cure delle arti. Arte\, salute e società - 2^ edizione
LAST-MODIFIED;VALUE=DATE-TIME:20160222T101825Z
LOCATION:Bologna- Complesso Ex Presidio Roncati\, via Sant’Isaia 90
URL:https://www.ausl.bologna.it/eventi/archivio/auslevent.2015-05-18.65014
 00740
END:VEVENT
END:VCALENDAR
