BEGIN:VCALENDAR
VERSION:2.0
PRODID:-//Plone.org//NONSGML plone.app.event//EN
X-WR-TIMEZONE:Europe/Rome
BEGIN:VEVENT
SUMMARY:Visite guidate all’ex Presidio Roncati
DTSTART;VALUE=DATE-TIME:20150606T080000Z
DTEND;VALUE=DATE-TIME:20150606T150000Z
DTSTAMP;VALUE=DATE-TIME:20260420T183649Z
UID:9e9a0156a07203624779605e8499dfa6@127.0.0.1:8095
CATEGORIES:Visita guidata
CREATED;VALUE=DATE-TIME:20150518T154324Z
DESCRIPTION:Delle cure delle arti. Arte\, salute e società - 2^ edizione
LAST-MODIFIED;VALUE=DATE-TIME:20160222T101826Z
LOCATION:Bologna- Complesso Ex Presidio Roncati\, via Sant’Isaia 90
URL:https://www.ausl.bologna.it/eventi/archivio/auslevent.2015-05-18.60612
 03070
END:VEVENT
END:VCALENDAR
